BEGIN:VCALENDAR
VERSION:2.0
PRODID:-//wp-events-plugin.com//7.2.3.1//EN
TZID:Europe/Rome
X-WR-TIMEZONE:Europe/Rome
BEGIN:VEVENT
UID:22@stradastorta.it
DTSTART;TZID=Europe/Rome:20260510T063000
DTEND;TZID=Europe/Rome:20260510T170000
DTSTAMP:20260107T115754Z
URL:https://stradastorta.it/eventi/monte-legnone/
SUMMARY:Monte Legnone
DESCRIPTION:Il Monte Legnone\, con i suoi 2.609 m s.l.m.\, è la cima più 
 alta della provincia di Lecco e del settore più occidentale delle Alpi Or
 obie. Con la sua imponenza domina la piana di Colico e l’Alto Lario e ra
 ppresenta lo spartiacque tra la Valtellina e la Val Varrone\, adiacente al
 la Valsassina. Di bella forma piramidale con linee regolari\, offre uno sp
 lendido panorama che abbraccia tutto l’arco Alpino.
ATTACH;FMTTYPE=image/jpeg:https://stradastorta.it/wp-content/uploads/2026/
 01/Legnone.jpeg
END:VEVENT
BEGIN:VTIMEZONE
TZID:Europe/Rome
X-LIC-LOCATION:Europe/Rome
BEGIN:DAYLIGHT
DTSTART:20260329T030000
TZOFFSETFROM:+0100
TZOFFSETTO:+0200
TZNAME:CEST
END:DAYLIGHT
END:VTIMEZONE
END:VCALENDAR